BEGIN:VCALENDAR
VERSION:2.0
PRODID:-//biblicalmarriageinstitute.org//NONSGML kigkonsult.se iCalcreator 
 2.30.10//
CALSCALE:GREGORIAN
METHOD:PUBLISH
UID:ab13ba62-6db3-40c9-9982-c3646de072a4
X-WR-CALDESC:
X-WR-RELCALID:a240a9caace6e748fc9cc73b3630f926
X-WR-TIMEZONE:America/Chicago
BEGIN:VTIMEZONE
TZID:America/Chicago
BEGIN:STANDARD
TZNAME:CST
DTSTART:20251102T020000
TZOFFSETFROM:-0500
TZOFFSETTO:-0600
RDATE:20261101T020000
RDATE:20271107T020000
END:STANDARD
BEGIN:DAYLIGHT
TZNAME:CDT
DTSTART:20260308T020000
TZOFFSETFROM:-0600
TZOFFSETTO:-0500
RDATE:20270314T020000
END:DAYLIGHT
END:VTIMEZONE
BEGIN:VEVENT
UID:d4e24b7d-39cb-44fc-87e4-238f851bd8d8
DTSTAMP:20260421T170444Z
DESCRIPTION:
DTSTART;TZID=America/Chicago:20260804T183000
DTEND;TZID=America/Chicago:20260804T193000
LOCATION:
SUMMARY:One Single Thing
END:VEVENT
END:VCALENDAR
