BEGIN:VCALENDAR
VERSION:2.0
PRODID:-//biblicalmarriageinstitute.org//NONSGML kigkonsult.se iCalcreator 
 2.30.10//
CALSCALE:GREGORIAN
METHOD:PUBLISH
UID:fc24f054-cf41-4b71-9a27-2f0e6c2fb083
X-WR-CALDESC:
X-WR-RELCALID:05f4810d91fa7eb8e55ab8d8e64f5f4b
X-WR-TIMEZONE:America/Chicago
BEGIN:VTIMEZONE
TZID:America/Chicago
BEGIN:STANDARD
TZNAME:CST
DTSTART:20251102T020000
TZOFFSETFROM:-0500
TZOFFSETTO:-0600
RDATE:20261101T020000
RDATE:20271107T020000
END:STANDARD
BEGIN:DAYLIGHT
TZNAME:CDT
DTSTART:20260308T020000
TZOFFSETFROM:-0600
TZOFFSETTO:-0500
RDATE:20270314T020000
END:DAYLIGHT
END:VTIMEZONE
BEGIN:VEVENT
UID:66b45256-c125-424e-a776-63ef555c6ff5
DTSTAMP:20260421T170411Z
DESCRIPTION:
DTSTART;TZID=America/Chicago:20260707T183000
DTEND;TZID=America/Chicago:20260707T193000
LOCATION:
SUMMARY:One Single Thing
END:VEVENT
END:VCALENDAR
